Workbook

Sheet 工数入力シート
A1: 工数管理シート（入力）
A2: 1行に「日付・社員・プロジェクト・作業区分・時間」を1件ずつ入力します（15分＝0.25時間単位）。
A4: 日付 | B4: 社員コード | C4: 氏名 | D4: PJコード | E4: プロジェクト名 | F4: 作業区分 | G4: 時間 | H4: 工数原価（円） | I4: メモ
A5: 46328 | B5: E001 | C5: =IFERROR(VLOOKUP(B5,マスタ!$A$4:$E$8,2,FALSE),"") | D5: PJ-001 | E5: =IFERROR(VLOOKUP(D5,マスタ!$A$10:$C$15,2,FALSE),"") | F5: 設計 | G5: 5 | H5: =IFERROR(G5*VLOOKUP(B5,マスタ!$A$4:$E$8,4,FALSE),"")
A6: 46328 | B6: E001 | C6: =IFERROR(VLOOKUP(B6,マスタ!$A$4:$E$8,2,FALSE),"") | D6: PJ-001 | E6: =IFERROR(VLOOKUP(D6,マスタ!$A$10:$C$15,2,FALSE),"") | F6: 製造 | G6: 2 | H6: =IFERROR(G6*VLOOKUP(B6,マスタ!$A$4:$E$8,4,FALSE),"")
A7: 46328 | B7: E001 | C7: =IFERROR(VLOOKUP(B7,マスタ!$A$4:$E$8,2,FALSE),"") | D7: IN-001 | E7: =IFERROR(VLOOKUP(D7,マスタ!$A$10:$C$15,2,FALSE),"") | F7: 会議 | G7: 1 | H7: =IFERROR(G7*VLOOKUP(B7,マスタ!$A$4:$E$8,4,FALSE),"")
A8: 46328 | B8: E002 | C8: =IFERROR(VLOOKUP(B8,マスタ!$A$4:$E$8,2,FALSE),"") | D8: PJ-001 | E8: =IFERROR(VLOOKUP(D8,マスタ!$A$10:$C$15,2,FALSE),"") | F8: 製造 | G8: 6 | H8: =IFERROR(G8*VLOOKUP(B8,マスタ!$A$4:$E$8,4,FALSE),"")
A9: 46328 | B9: E002 | C9: =IFERROR(VLOOKUP(B9,マスタ!$A$4:$E$8,2,FALSE),"") | D9: PJ-002 | E9: =IFERROR(VLOOKUP(D9,マスタ!$A$10:$C$15,2,FALSE),"") | F9: 製造 | G9: 1.5 | H9: =IFERROR(G9*VLOOKUP(B9,マスタ!$A$4:$E$8,4,FALSE),"")
A10: 46328 | B10: E002 | C10: =IFERROR(VLOOKUP(B10,マスタ!$A$4:$E$8,2,FALSE),"") | D10: IN-001 | E10: =IFERROR(VLOOKUP(D10,マスタ!$A$10:$C$15,2,FALSE),"") | F10: 会議 | G10: 0.5 | H10: =IFERROR(G10*VLOOKUP(B10,マスタ!$A$4:$E$8,4,FALSE),"")
A11: 46328 | B11: E003 | C11: =IFERROR(VLOOKUP(B11,マスタ!$A$4:$E$8,2,FALSE),"") | D11: PJ-002 | E11: =IFERROR(VLOOKUP(D11,マスタ!$A$10:$C$15,2,FALSE),"") | F11: デザイン | G11: 6 | H11: =IFERROR(G11*VLOOKUP(B11,マスタ!$A$4:$E$8,4,FALSE),"")
A12: 46328 | B12: E003 | C12: =IFERROR(VLOOKUP(B12,マスタ!$A$4:$E$8,2,FALSE),"") | D12: IN-002 | E12: =IFERROR(VLOOKUP(D12,マスタ!$A$10:$C$15,2,FALSE),"") | F12: 提案 | G12: 1.5 | H12: =IFERROR(G12*VLOOKUP(B12,マスタ!$A$4:$E$8,4,FALSE),"")
A13: 46328 | B13: E003 | C13: =IFERROR(VLOOKUP(B13,マスタ!$A$4:$E$8,2,FALSE),"") | D13: IN-001 | E13: =IFERROR(VLOOKUP(D13,マスタ!$A$10:$C$15,2,FALSE),"") | F13: 会議 | G13: 0.5 | H13: =IFERROR(G13*VLOOKUP(B13,マスタ!$A$4:$E$8,4,FALSE),"")
A14: 46329 | B14: E001 | C14: =IFERROR(VLOOKUP(B14,マスタ!$A$4:$E$8,2,FALSE),"") | D14: PJ-001 | E14: =IFERROR(VLOOKUP(D14,マスタ!$A$10:$C$15,2,FALSE),"") | F14: 設計 | G14: 5 | H14: =IFERROR(G14*VLOOKUP(B14,マスタ!$A$4:$E$8,4,FALSE),"")
A15: 46329 | B15: E001 | C15: =IFERROR(VLOOKUP(B15,マスタ!$A$4:$E$8,2,FALSE),"") | D15: PJ-001 | E15: =IFERROR(VLOOKUP(D15,マスタ!$A$10:$C$15,2,FALSE),"") | F15: 製造 | G15: 2 | H15: =IFERROR(G15*VLOOKUP(B15,マスタ!$A$4:$E$8,4,FALSE),"")
A16: 46329 | B16: E001 | C16: =IFERROR(VLOOKUP(B16,マスタ!$A$4:$E$8,2,FALSE),"") | D16: IN-001 | E16: =IFERROR(VLOOKUP(D16,マスタ!$A$10:$C$15,2,FALSE),"") | F16: 会議 | G16: 1 | H16: =IFERROR(G16*VLOOKUP(B16,マスタ!$A$4:$E$8,4,FALSE),"")
... A49: 46332 | B49: E003 | C49: =IFERROR(VLOOKUP(B49,マスタ!$A$4:$E$8,2,FALSE),"") | D49: IN-001 | E49: =IFERROR(VLOOKUP(D49,マスタ!$A$10:$C$15,2,FALSE),"") | F49: 会議 | G49: 0.5 | H49: =IFERROR(G49*VLOOKUP(B49,マスタ!$A$4:$E$8,4,FALSE),"")
C50: =IFERROR(VLOOKUP(B50,マスタ!$A$4:$E$8,2,FALSE),"") | E50: =IFERROR(VLOOKUP(D50,マスタ!$A$10:$C$15,2,FALSE),"") | H50: =IF(G50="","",IFERROR(G50*VLOOKUP(B50,マスタ!$A$4:$E$8,4,FALSE),""))
C51: =IFERROR(VLOOKUP(B51,マスタ!$A$4:$E$8,2,FALSE),"") | E51: =IFERROR(VLOOKUP(D51,マスタ!$A$10:$C$15,2,FALSE),"") | H51: =IF(G51="","",IFERROR(G51*VLOOKUP(B51,マスタ!$A$4:$E$8,4,FALSE),""))
C52: =IFERROR(VLOOKUP(B52,マスタ!$A$4:$E$8,2,FALSE),"") | E52: =IFERROR(VLOOKUP(D52,マスタ!$A$10:$C$15,2,FALSE),"") | H52: =IF(G52="","",IFERROR(G52*VLOOKUP(B52,マスタ!$A$4:$E$8,4,FALSE),""))
C53: =IFERROR(VLOOKUP(B53,マスタ!$A$4:$E$8,2,FALSE),"") | E53: =IFERROR(VLOOKUP(D53,マスタ!$A$10:$C$15,2,FALSE),"") | H53: =IF(G53="","",IFERROR(G53*VLOOKUP(B53,マスタ!$A$4:$E$8,4,FALSE),""))
C54: =IFERROR(VLOOKUP(B54,マスタ!$A$4:$E$8,2,FALSE),"") | E54: =IFERROR(VLOOKUP(D54,マスタ!$A$10:$C$15,2,FALSE),"") | H54: =IF(G54="","",IFERROR(G54*VLOOKUP(B54,マスタ!$A$4:$E$8,4,FALSE),""))
C55: =IFERROR(VLOOKUP(B55,マスタ!$A$4:$E$8,2,FALSE),"") | E55: =IFERROR(VLOOKUP(D55,マスタ!$A$10:$C$15,2,FALSE),"") | H55: =IF(G55="","",IFERROR(G55*VLOOKUP(B55,マスタ!$A$4:$E$8,4,FALSE),""))
C56: =IFERROR(VLOOKUP(B56,マスタ!$A$4:$E$8,2,FALSE),"") | E56: =IFERROR(VLOOKUP(D56,マスタ!$A$10:$C$15,2,FALSE),"") | H56: =IF(G56="","",IFERROR(G56*VLOOKUP(B56,マスタ!$A$4:$E$8,4,FALSE),""))
C57: =IFERROR(VLOOKUP(B57,マスタ!$A$4:$E$8,2,FALSE),"") | E57: =IFERROR(VLOOKUP(D57,マスタ!$A$10:$C$15,2,FALSE),"") | H57: =IF(G57="","",IFERROR(G57*VLOOKUP(B57,マスタ!$A$4:$E$8,4,FALSE),""))
C58: =IFERROR(VLOOKUP(B58,マスタ!$A$4:$E$8,2,FALSE),"") | E58: =IFERROR(VLOOKUP(D58,マスタ!$A$10:$C$15,2,FALSE),"") | H58: =IF(G58="","",IFERROR(G58*VLOOKUP(B58,マスタ!$A$4:$E$8,4,FALSE),""))
C59: =IFERROR(VLOOKUP(B59,マスタ!$A$4:$E$8,2,FALSE),"") | E59: =IFERROR(VLOOKUP(D59,マスタ!$A$10:$C$15,2,FALSE),"") | H59: =IF(G59="","",IFERROR(G59*VLOOKUP(B59,マスタ!$A$4:$E$8,4,FALSE),""))
C60: =IFERROR(VLOOKUP(B60,マスタ!$A$4:$E$8,2,FALSE),"") | E60: =IFERROR(VLOOKUP(D60,マスタ!$A$10:$C$15,2,FALSE),"") | H60: =IF(G60="","",IFERROR(G60*VLOOKUP(B60,マスタ!$A$4:$E$8,4,FALSE),""))
C61: =IFERROR(VLOOKUP(B61,マスタ!$A$4:$E$8,2,FALSE),"") | E61: =IFERROR(VLOOKUP(D61,マスタ!$A$10:$C$15,2,FALSE),"") | H61: =IF(G61="","",IFERROR(G61*VLOOKUP(B61,マスタ!$A$4:$E$8,4,FALSE),""))
... C109: =IFERROR(VLOOKUP(B109,マスタ!$A$4:$E$8,2,FALSE),"") | E109: =IFERROR(VLOOKUP(D109,マスタ!$A$10:$C$15,2,FALSE),"") | H109: =IF(G109="","",IFERROR(G109*VLOOKUP(B109,マスタ!$A$4:$E$8,4,FALSE),""))

Sheet 工数集計
A1: 工数集計（プロジェクト別・社員別・稼働率）
A2: 工数入力シートから自動集計されます。稼働率＝顧客案件の工数÷所定時間（この例は5日分の入力のため低く表示されます）。
A4: PJコード | B4: プロジェクト名 | C4: 区分 | D4: 工数（時間） | E4: 工数原価（円） | F4: 構成比（時間）
A5: =マスタ!A10 | B5: =マスタ!B10 | C5: =マスタ!C10 | D5: =SUMIF(工数入力シート!$D$5:$D$109,A5,工数入力シート!$G$5:$G$109) | E5: =SUMIF(工数入力シート!$D$5:$D$109,A5,工数入力シート!$H$5:$H$109) | F5: =IF($D$9=0,"",D5/$D$9)
A6: =マスタ!A11 | B6: =マスタ!B11 | C6: =マスタ!C11 | D6: =SUMIF(工数入力シート!$D$5:$D$109,A6,工数入力シート!$G$5:$G$109) | E6: =SUMIF(工数入力シート!$D$5:$D$109,A6,工数入力シート!$H$5:$H$109) | F6: =IF($D$9=0,"",D6/$D$9)
A7: =マスタ!A12 | B7: =マスタ!B12 | C7: =マスタ!C12 | D7: =SUMIF(工数入力シート!$D$5:$D$109,A7,工数入力シート!$G$5:$G$109) | E7: =SUMIF(工数入力シート!$D$5:$D$109,A7,工数入力シート!$H$5:$H$109) | F7: =IF($D$9=0,"",D7/$D$9)
A8: =マスタ!A13 | B8: =マスタ!B13 | C8: =マスタ!C13 | D8: =SUMIF(工数入力シート!$D$5:$D$109,A8,工数入力シート!$G$5:$G$109) | E8: =SUMIF(工数入力シート!$D$5:$D$109,A8,工数入力シート!$H$5:$H$109) | F8: =IF($D$9=0,"",D8/$D$9)
B9: 合計 | D9: =SUM(D5:D8) | E9: =SUM(E5:E8)
A12: 社員コード | B12: 氏名 | C12: 総工数（時間） | D12: 顧客案件の工数 | E12: 社内（間接）工数 | F12: 所定時間 | G12: 稼働率 | H12: 工数原価（円）
A13: =マスタ!A4 | B13: =マスタ!B4 | C13: =SUMIF(工数入力シート!$B$5:$B$109,A13,工数入力シート!$G$5:$G$109) | D13: =SUMIFS(工数入力シート!$G$5:$G$109,工数入力シート!$B$5:$B$109,A13,工数入力シート!$D$5:$D$109,"PJ-*") | E13: =C13-D13 | F13: =マスタ!E4 | G13: =IF(F13=0,"",D13/F13) | H13: =SUMIF(工数入力シート!$B$5:$B$109,A13,工数入力シート!$H$5:$H$109)
A14: =マスタ!A5 | B14: =マスタ!B5 | C14: =SUMIF(工数入力シート!$B$5:$B$109,A14,工数入力シート!$G$5:$G$109) | D14: =SUMIFS(工数入力シート!$G$5:$G$109,工数入力シート!$B$5:$B$109,A14,工数入力シート!$D$5:$D$109,"PJ-*") | E14: =C14-D14 | F14: =マスタ!E5 | G14: =IF(F14=0,"",D14/F14) | H14: =SUMIF(工数入力シート!$B$5:$B$109,A14,工数入力シート!$H$5:$H$109)
A15: =マスタ!A6 | B15: =マスタ!B6 | C15: =SUMIF(工数入力シート!$B$5:$B$109,A15,工数入力シート!$G$5:$G$109) | D15: =SUMIFS(工数入力シート!$G$5:$G$109,工数入力シート!$B$5:$B$109,A15,工数入力シート!$D$5:$D$109,"PJ-*") | E15: =C15-D15 | F15: =マスタ!E6 | G15: =IF(F15=0,"",D15/F15) | H15: =SUMIF(工数入力シート!$B$5:$B$109,A15,工数入力シート!$H$5:$H$109)
A17: ※顧客案件はPJコードが「PJ-」で始まるもの、社内（間接）は「IN-」で始まるものとして集計しています。

Sheet マスタ
A1: マスタ（社員・プロジェクト）
A3: 社員コード | B3: 氏名 | C3: 部門 | D3: 時間単価（円） | E3: 月の所定時間
A4: E001 | B4: 社員A | C4: 開発部 | D4: 6000 | E4: 160
A5: E002 | B5: 社員B | C5: 開発部 | D5: 5000 | E5: 160
A6: E003 | B6: 社員C | C6: デザイン部 | D6: 5500 | E6: 160
A9: PJコード | B9: プロジェクト名 | C9: 区分
A10: PJ-001 | B10: 基幹システム改修 | C10: 顧客案件
A11: PJ-002 | B11: コーポレートサイト | C11: 顧客案件
A12: IN-001 | B12: 社内会議・教育 | C12: 社内（間接）
A13: IN-002 | B13: 提案・営業支援 | C13: 社内（間接）
A16: ※黄色のセルを自社の内容に書き換えます。時間単価は、給与・賞与・社会保険料などを含む人件費をもとに設定します。
