Workbook

Sheet 設定
A1: 稼働率分析テンプレート（eMplex PBM コラム）
A3: 対象月 | B3: 2026-10
A4: 所定労働時間（時間／人・月） | B4: 160
A5: 時間単価（人件費・円／時間） | B5: 4500
A6: 請求単価（円／時間） | B6: 8000
A7: 目標稼働率 | B7: 0.8
A8: 過稼働の基準（以上） | B8: 0.95
A9: 未配置の基準（未満） | B9: 0.6
A11: 黄色のセルを入力してください。稼働率＝プロジェクト工数÷所定労働時間。

Sheet 社員別入力
A1: 社員 | B1: 部門 | C1: 所定時間 | D1: プロジェクト工数 | E1: 待機 | F1: 社内会議・事務 | G1: 提案支援 | H1: 教育・研修 | I1: 休暇 | J1: その他 | K1: 非稼働計 | L1: 入力合計 | M1: 差（所定−入力） | N1: 稼働率 | O1: 非稼働コスト（円） | P1: 判定
A2: 社員A | B2: 開発1部 | C2: 160 | D2: 152 | E2: 0 | F2: 4 | G2: 2 | H2: 2 | I2: 0 | J2: 0 | K2: =IF(A2="","",SUM(E2:J2)) | L2: =IF(A2="","",D2+K2) | M2: =IF(A2="","",C2-L2) | N2: =IF(OR(A2="",C2=0),"",D2/C2) | O2: =IF(A2="","",K2*設定!$B$5) | P2: =IF(N2="","",IF(N2>=設定!$B$8,"過稼働",IF(N2<設定!$B$9,"未配置","")))
A3: 社員B | B3: 開発1部 | C3: 160 | D3: 128 | E3: 8 | F3: 10 | G3: 6 | H3: 8 | I3: 0 | J3: 0 | K3: =IF(A3="","",SUM(E3:J3)) | L3: =IF(A3="","",D3+K3) | M3: =IF(A3="","",C3-L3) | N3: =IF(OR(A3="",C3=0),"",D3/C3) | O3: =IF(A3="","",K3*設定!$B$5) | P3: =IF(N3="","",IF(N3>=設定!$B$8,"過稼働",IF(N3<設定!$B$9,"未配置","")))
A4: 社員C | B4: 開発1部 | C4: 160 | D4: 90 | E4: 40 | F4: 12 | G4: 8 | H4: 10 | I4: 0 | J4: 0 | K4: =IF(A4="","",SUM(E4:J4)) | L4: =IF(A4="","",D4+K4) | M4: =IF(A4="","",C4-L4) | N4: =IF(OR(A4="",C4=0),"",D4/C4) | O4: =IF(A4="","",K4*設定!$B$5) | P4: =IF(N4="","",IF(N4>=設定!$B$8,"過稼働",IF(N4<設定!$B$9,"未配置","")))
A5: 社員D | B5: 開発2部 | C5: 160 | D5: 136 | E5: 0 | F5: 10 | G5: 8 | H5: 6 | I5: 0 | J5: 0 | K5: =IF(A5="","",SUM(E5:J5)) | L5: =IF(A5="","",D5+K5) | M5: =IF(A5="","",C5-L5) | N5: =IF(OR(A5="",C5=0),"",D5/C5) | O5: =IF(A5="","",K5*設定!$B$5) | P5: =IF(N5="","",IF(N5>=設定!$B$8,"過稼働",IF(N5<設定!$B$9,"未配置","")))
A6: 社員E | B6: 開発2部 | C6: 160 | D6: 120 | E6: 16 | F6: 12 | G6: 4 | H6: 8 | I6: 0 | J6: 0 | K6: =IF(A6="","",SUM(E6:J6)) | L6: =IF(A6="","",D6+K6) | M6: =IF(A6="","",C6-L6) | N6: =IF(OR(A6="",C6=0),"",D6/C6) | O6: =IF(A6="","",K6*設定!$B$5) | P6: =IF(N6="","",IF(N6>=設定!$B$8,"過稼働",IF(N6<設定!$B$9,"未配置","")))
A7: 社員F | B7: 開発2部 | C7: 160 | D7: 104 | E7: 24 | F7: 14 | G7: 4 | H7: 6 | I7: 8 | J7: 0 | K7: =IF(A7="","",SUM(E7:J7)) | L7: =IF(A7="","",D7+K7) | M7: =IF(A7="","",C7-L7) | N7: =IF(OR(A7="",C7=0),"",D7/C7) | O7: =IF(A7="","",K7*設定!$B$5) | P7: =IF(N7="","",IF(N7>=設定!$B$8,"過稼働",IF(N7<設定!$B$9,"未配置","")))
C8: =IF(A8="","",設定!$B$4) | K8: =IF(A8="","",SUM(E8:J8)) | L8: =IF(A8="","",D8+K8) | M8: =IF(A8="","",C8-L8) | N8: =IF(OR(A8="",C8=0),"",D8/C8) | O8: =IF(A8="","",K8*設定!$B$5) | P8: =IF(N8="","",IF(N8>=設定!$B$8,"過稼働",IF(N8<設定!$B$9,"未配置","")))
C9: =IF(A9="","",設定!$B$4) | K9: =IF(A9="","",SUM(E9:J9)) | L9: =IF(A9="","",D9+K9) | M9: =IF(A9="","",C9-L9) | N9: =IF(OR(A9="",C9=0),"",D9/C9) | O9: =IF(A9="","",K9*設定!$B$5) | P9: =IF(N9="","",IF(N9>=設定!$B$8,"過稼働",IF(N9<設定!$B$9,"未配置","")))
C10: =IF(A10="","",設定!$B$4) | K10: =IF(A10="","",SUM(E10:J10)) | L10: =IF(A10="","",D10+K10) | M10: =IF(A10="","",C10-L10) | N10: =IF(OR(A10="",C10=0),"",D10/C10) | O10: =IF(A10="","",K10*設定!$B$5) | P10: =IF(N10="","",IF(N10>=設定!$B$8,"過稼働",IF(N10<設定!$B$9,"未配置","")))
C11: =IF(A11="","",設定!$B$4) | K11: =IF(A11="","",SUM(E11:J11)) | L11: =IF(A11="","",D11+K11) | M11: =IF(A11="","",C11-L11) | N11: =IF(OR(A11="",C11=0),"",D11/C11) | O11: =IF(A11="","",K11*設定!$B$5) | P11: =IF(N11="","",IF(N11>=設定!$B$8,"過稼働",IF(N11<設定!$B$9,"未配置","")))
C12: =IF(A12="","",設定!$B$4) | K12: =IF(A12="","",SUM(E12:J12)) | L12: =IF(A12="","",D12+K12) | M12: =IF(A12="","",C12-L12) | N12: =IF(OR(A12="",C12=0),"",D12/C12) | O12: =IF(A12="","",K12*設定!$B$5) | P12: =IF(N12="","",IF(N12>=設定!$B$8,"過稼働",IF(N12<設定!$B$9,"未配置","")))
C13: =IF(A13="","",設定!$B$4) | K13: =IF(A13="","",SUM(E13:J13)) | L13: =IF(A13="","",D13+K13) | M13: =IF(A13="","",C13-L13) | N13: =IF(OR(A13="",C13=0),"",D13/C13) | O13: =IF(A13="","",K13*設定!$B$5) | P13: =IF(N13="","",IF(N13>=設定!$B$8,"過稼働",IF(N13<設定!$B$9,"未配置","")))
C14: =IF(A14="","",設定!$B$4) | K14: =IF(A14="","",SUM(E14:J14)) | L14: =IF(A14="","",D14+K14) | M14: =IF(A14="","",C14-L14) | N14: =IF(OR(A14="",C14=0),"",D14/C14) | O14: =IF(A14="","",K14*設定!$B$5) | P14: =IF(N14="","",IF(N14>=設定!$B$8,"過稼働",IF(N14<設定!$B$9,"未配置","")))
C15: =IF(A15="","",設定!$B$4) | K15: =IF(A15="","",SUM(E15:J15)) | L15: =IF(A15="","",D15+K15) | M15: =IF(A15="","",C15-L15) | N15: =IF(OR(A15="",C15=0),"",D15/C15) | O15: =IF(A15="","",K15*設定!$B$5) | P15: =IF(N15="","",IF(N15>=設定!$B$8,"過稼働",IF(N15<設定!$B$9,"未配置","")))
C16: =IF(A16="","",設定!$B$4) | K16: =IF(A16="","",SUM(E16:J16)) | L16: =IF(A16="","",D16+K16) | M16: =IF(A16="","",C16-L16) | N16: =IF(OR(A16="",C16=0),"",D16/C16) | O16: =IF(A16="","",K16*設定!$B$5) | P16: =IF(N16="","",IF(N16>=設定!$B$8,"過稼働",IF(N16<設定!$B$9,"未配置","")))
C17: =IF(A17="","",設定!$B$4) | K17: =IF(A17="","",SUM(E17:J17)) | L17: =IF(A17="","",D17+K17) | M17: =IF(A17="","",C17-L17) | N17: =IF(OR(A17="",C17=0),"",D17/C17) | O17: =IF(A17="","",K17*設定!$B$5) | P17: =IF(N17="","",IF(N17>=設定!$B$8,"過稼働",IF(N17<設定!$B$9,"未配置","")))
C18: =IF(A18="","",設定!$B$4) | K18: =IF(A18="","",SUM(E18:J18)) | L18: =IF(A18="","",D18+K18) | M18: =IF(A18="","",C18-L18) | N18: =IF(OR(A18="",C18=0),"",D18/C18) | O18: =IF(A18="","",K18*設定!$B$5) | P18: =IF(N18="","",IF(N18>=設定!$B$8,"過稼働",IF(N18<設定!$B$9,"未配置","")))
C19: =IF(A19="","",設定!$B$4) | K19: =IF(A19="","",SUM(E19:J19)) | L19: =IF(A19="","",D19+K19) | M19: =IF(A19="","",C19-L19) | N19: =IF(OR(A19="",C19=0),"",D19/C19) | O19: =IF(A19="","",K19*設定!$B$5) | P19: =IF(N19="","",IF(N19>=設定!$B$8,"過稼働",IF(N19<設定!$B$9,"未配置","")))
... C31: =IF(A31="","",設定!$B$4) | K31: =IF(A31="","",SUM(E31:J31)) | L31: =IF(A31="","",D31+K31) | M31: =IF(A31="","",C31-L31) | N31: =IF(OR(A31="",C31=0),"",D31/C31) | O31: =IF(A31="","",K31*設定!$B$5) | P31: =IF(N31="","",IF(N31>=設定!$B$8,"過稼働",IF(N31<設定!$B$9,"未配置","")))

Sheet 部門別集計
A1: 部門 | B1: 人数 | C1: 所定時間 | D1: プロジェクト工数 | E1: 非稼働計 | F1: 稼働率 | G1: 目標との差 | H1: 非稼働コスト（円） | I1: 目標達成時の追加稼働（時間） | J1: 追加稼働の売上ポテンシャル（円）
A2: 開発1部 | B2: =IF(A2="","",COUNTIF(社員別入力!$B$2:$B$31,A2)) | C2: =IF(A2="","",SUMIF(社員別入力!$B$2:$B$31,A2,社員別入力!$C$2:$C$31)) | D2: =IF(A2="","",SUMIF(社員別入力!$B$2:$B$31,A2,社員別入力!$D$2:$D$31)) | E2: =IF(A2="","",SUMIF(社員別入力!$B$2:$B$31,A2,社員別入力!$K$2:$K$31)) | F2: =IF(OR(A2="",C2=0),"",D2/C2) | G2: =IF(F2="","",F2-設定!$B$7) | H2: =IF(A2="","",E2*設定!$B$5) | I2: =IF(F2="","",MAX(0,C2*設定!$B$7-D2)) | J2: =IF(I2="","",I2*設定!$B$6)
A3: 開発2部 | B3: =IF(A3="","",COUNTIF(社員別入力!$B$2:$B$31,A3)) | C3: =IF(A3="","",SUMIF(社員別入力!$B$2:$B$31,A3,社員別入力!$C$2:$C$31)) | D3: =IF(A3="","",SUMIF(社員別入力!$B$2:$B$31,A3,社員別入力!$D$2:$D$31)) | E3: =IF(A3="","",SUMIF(社員別入力!$B$2:$B$31,A3,社員別入力!$K$2:$K$31)) | F3: =IF(OR(A3="",C3=0),"",D3/C3) | G3: =IF(F3="","",F3-設定!$B$7) | H3: =IF(A3="","",E3*設定!$B$5) | I3: =IF(F3="","",MAX(0,C3*設定!$B$7-D3)) | J3: =IF(I3="","",I3*設定!$B$6)
B4: =IF(A4="","",COUNTIF(社員別入力!$B$2:$B$31,A4)) | C4: =IF(A4="","",SUMIF(社員別入力!$B$2:$B$31,A4,社員別入力!$C$2:$C$31)) | D4: =IF(A4="","",SUMIF(社員別入力!$B$2:$B$31,A4,社員別入力!$D$2:$D$31)) | E4: =IF(A4="","",SUMIF(社員別入力!$B$2:$B$31,A4,社員別入力!$K$2:$K$31)) | F4: =IF(OR(A4="",C4=0),"",D4/C4) | G4: =IF(F4="","",F4-設定!$B$7) | H4: =IF(A4="","",E4*設定!$B$5) | I4: =IF(F4="","",MAX(0,C4*設定!$B$7-D4)) | J4: =IF(I4="","",I4*設定!$B$6)
B5: =IF(A5="","",COUNTIF(社員別入力!$B$2:$B$31,A5)) | C5: =IF(A5="","",SUMIF(社員別入力!$B$2:$B$31,A5,社員別入力!$C$2:$C$31)) | D5: =IF(A5="","",SUMIF(社員別入力!$B$2:$B$31,A5,社員別入力!$D$2:$D$31)) | E5: =IF(A5="","",SUMIF(社員別入力!$B$2:$B$31,A5,社員別入力!$K$2:$K$31)) | F5: =IF(OR(A5="",C5=0),"",D5/C5) | G5: =IF(F5="","",F5-設定!$B$7) | H5: =IF(A5="","",E5*設定!$B$5) | I5: =IF(F5="","",MAX(0,C5*設定!$B$7-D5)) | J5: =IF(I5="","",I5*設定!$B$6)
B6: =IF(A6="","",COUNTIF(社員別入力!$B$2:$B$31,A6)) | C6: =IF(A6="","",SUMIF(社員別入力!$B$2:$B$31,A6,社員別入力!$C$2:$C$31)) | D6: =IF(A6="","",SUMIF(社員別入力!$B$2:$B$31,A6,社員別入力!$D$2:$D$31)) | E6: =IF(A6="","",SUMIF(社員別入力!$B$2:$B$31,A6,社員別入力!$K$2:$K$31)) | F6: =IF(OR(A6="",C6=0),"",D6/C6) | G6: =IF(F6="","",F6-設定!$B$7) | H6: =IF(A6="","",E6*設定!$B$5) | I6: =IF(F6="","",MAX(0,C6*設定!$B$7-D6)) | J6: =IF(I6="","",I6*設定!$B$6)
A7: 合計 | B7: =SUM(B2:B6) | C7: =SUM(C2:C6) | D7: =SUM(D2:D6) | E7: =SUM(E2:E6) | F7: =IF(C7=0,"",D7/C7) | H7: =SUM(H2:H6) | I7: =SUM(I2:I6) | J7: =SUM(J2:J6)

Sheet 非稼働内訳
A1: 区分 | B1: 時間 | C1: 構成比 | D1: コスト（円） | E1: 扱い
A2: 待機 | B2: =SUM(社員別入力!$E$2:$E$31) | C2: =IF($B$8=0,"",B2/$B$8) | D2: =B2*設定!$B$5 | E2: 削減対象
A3: 社内会議・事務 | B3: =SUM(社員別入力!$F$2:$F$31) | C3: =IF($B$8=0,"",B3/$B$8) | D3: =B3*設定!$B$5 | E3: 削減対象（必要分は残す）
A4: 提案支援 | B4: =SUM(社員別入力!$G$2:$G$31) | C4: =IF($B$8=0,"",B4/$B$8) | D4: =B4*設定!$B$5 | E4: 計画的に確保
A5: 教育・研修 | B5: =SUM(社員別入力!$H$2:$H$31) | C5: =IF($B$8=0,"",B5/$B$8) | D5: =B5*設定!$B$5 | E5: 計画的に確保
A6: 休暇 | B6: =SUM(社員別入力!$I$2:$I$31) | C6: =IF($B$8=0,"",B6/$B$8) | D6: =B6*設定!$B$5 | E6: 必要な時間
A7: その他 | B7: =SUM(社員別入力!$J$2:$J$31) | C7: =IF($B$8=0,"",B7/$B$8) | D7: =B7*設定!$B$5 | E7: 内容を確認
A8: 合計 | B8: =SUM(B2:B7) | D8: =SUM(D2:D7)
